Package: JohnsonKinaseData Version: 1.7.0 Command: /home/biocbuild/bbs-3.23-bioc/R/bin/R CMD check --install=check:JohnsonKinaseData.install-out.txt --library=/home/biocbuild/bbs-3.23-bioc/R/site-library --timings JohnsonKinaseData_1.7.0.tar.gz StartedAt: 2025-11-04 12:29:10 -0500 (Tue, 04 Nov 2025) EndedAt: 2025-11-04 12:32:23 -0500 (Tue, 04 Nov 2025) EllapsedTime: 193.8 seconds RetCode: 0 Status: OK CheckDir: JohnsonKinaseData.Rcheck Warnings: 0