Package: JohnsonKinaseData Version: 1.7.0 Command: /home/biocbuild/bbs-3.23-bioc/R/bin/R CMD build --keep-empty-dirs --no-resave-data JohnsonKinaseData StartedAt: 2025-10-30 11:23:17 -0400 (Thu, 30 Oct 2025) EndedAt: 2025-10-30 11:24:13 -0400 (Thu, 30 Oct 2025) EllapsedTime: 56.2 seconds RetCode: 0 Status: OK PackageFile: JohnsonKinaseData_1.7.0.tar.gz PackageFileSize: 315.1 KiB