Package: JASPAR2016 Version: 1.39.0 Command: /home/biocbuild/bbs-3.23-bioc/R/bin/R CMD INSTALL JASPAR2016 StartedAt: 2025-11-06 10:55:59 -0500 (Thu, 06 Nov 2025) EndedAt: 2025-11-06 10:56:04 -0500 (Thu, 06 Nov 2025) EllapsedTime: 5.0 seconds RetCode: 0 Status: OK