Package: JASPAR2014 Version: 1.47.0 Command: /home/biocbuild/bbs-3.23-bioc/R/bin/R CMD INSTALL JASPAR2014 StartedAt: 2025-10-30 10:56:48 -0400 (Thu, 30 Oct 2025) EndedAt: 2025-10-30 10:57:17 -0400 (Thu, 30 Oct 2025) EllapsedTime: 29.3 seconds RetCode: 0 Status: OK