Package: JASPAR2014 Version: 1.47.0 Command: /home/biocbuild/bbs-3.23-bioc/R/bin/R CMD check --install=check:JASPAR2014.install-out.txt --library=/home/biocbuild/bbs-3.23-bioc/R/site-library --timings JASPAR2014_1.47.0.tar.gz StartedAt: 2025-10-30 12:22:02 -0400 (Thu, 30 Oct 2025) EndedAt: 2025-10-30 12:23:19 -0400 (Thu, 30 Oct 2025) EllapsedTime: 77.3 seconds RetCode: 0 Status: WARNINGS CheckDir: JASPAR2014.Rcheck Warnings: 1