Package: JASPAR2014 Version: 1.47.0 Command: /home/biocbuild/bbs-3.23-bioc/R/bin/R CMD build --keep-empty-dirs --no-resave-data JASPAR2014 StartedAt: 2025-10-30 11:23:10 -0400 (Thu, 30 Oct 2025) EndedAt: 2025-10-30 11:23:16 -0400 (Thu, 30 Oct 2025) EllapsedTime: 6.3 seconds RetCode: 0 Status: OK PackageFile: JASPAR2014_1.47.0.tar.gz PackageFileSize: 42.89 MiB