Package: HumanAffyData Version: 1.37.0 Command: /home/biocbuild/bbs-3.23-bioc/R/bin/R CMD check --install=check:HumanAffyData.install-out.txt --library=/home/biocbuild/bbs-3.23-bioc/R/site-library --timings HumanAffyData_1.37.0.tar.gz StartedAt: 2025-10-30 12:20:31 -0400 (Thu, 30 Oct 2025) EndedAt: 2025-10-30 12:21:35 -0400 (Thu, 30 Oct 2025) EllapsedTime: 63.9 seconds RetCode: 0 Status: OK CheckDir: HumanAffyData.Rcheck Warnings: 0