Package: HumanAffyData Version: 1.37.0 Command: /home/biocbuild/bbs-3.23-bioc/R/bin/R CMD build --keep-empty-dirs --no-resave-data HumanAffyData StartedAt: 2025-10-30 11:22:15 -0400 (Thu, 30 Oct 2025) EndedAt: 2025-10-30 11:22:40 -0400 (Thu, 30 Oct 2025) EllapsedTime: 25.2 seconds RetCode: 0 Status: OK PackageFile: HumanAffyData_1.37.0.tar.gz PackageFileSize: 157.3 KiB