Package: HighlyReplicatedRNASeq Version: 1.23.0 Command: /home/biocbuild/bbs-3.23-bioc/R/bin/R CMD INSTALL HighlyReplicatedRNASeq StartedAt: 2025-11-06 11:00:07 -0500 (Thu, 06 Nov 2025) EndedAt: 2025-11-06 11:00:33 -0500 (Thu, 06 Nov 2025) EllapsedTime: 26.1 seconds RetCode: 0 Status: OK