Package: HighlyReplicatedRNASeq Version: 1.23.0 Command: /home/biocbuild/bbs-3.23-bioc/R/bin/R CMD check --install=check:HighlyReplicatedRNASeq.install-out.txt --library=/home/biocbuild/bbs-3.23-bioc/R/site-library --timings HighlyReplicatedRNASeq_1.23.0.tar.gz StartedAt: 2025-11-06 12:27:11 -0500 (Thu, 06 Nov 2025) EndedAt: 2025-11-06 12:30:39 -0500 (Thu, 06 Nov 2025) EllapsedTime: 207.4 seconds RetCode: 0 Status: OK CheckDir: HighlyReplicatedRNASeq.Rcheck Warnings: 0