Package: HiContactsData Version: 1.13.0 Command: /home/biocbuild/bbs-3.23-bioc/R/bin/R CMD build --keep-empty-dirs --no-resave-data HiContactsData StartedAt: 2025-11-06 11:24:05 -0500 (Thu, 06 Nov 2025) EndedAt: 2025-11-06 11:24:26 -0500 (Thu, 06 Nov 2025) EllapsedTime: 20.9 seconds RetCode: 0 Status: OK PackageFile: HiContactsData_1.13.0.tar.gz PackageFileSize: 221.9 KiB