Package: HiCDataLymphoblast Version: 1.47.0 Command: /home/biocbuild/bbs-3.23-bioc/R/bin/R CMD check --install=check:HiCDataLymphoblast.install-out.txt --library=/home/biocbuild/bbs-3.23-bioc/R/site-library --timings HiCDataLymphoblast_1.47.0.tar.gz StartedAt: 2025-11-27 12:29:59 -0500 (Thu, 27 Nov 2025) EndedAt: 2025-11-27 12:30:22 -0500 (Thu, 27 Nov 2025) EllapsedTime: 23.6 seconds RetCode: 0 Status: OK CheckDir: HiCDataLymphoblast.Rcheck Warnings: 0