Package: HiCDataHumanIMR90 Version: 1.31.0 Command: /home/biocbuild/bbs-3.23-bioc/R/bin/R CMD check --install=check:HiCDataHumanIMR90.install-out.txt --library=/home/biocbuild/bbs-3.23-bioc/R/site-library --timings HiCDataHumanIMR90_1.31.0.tar.gz StartedAt: 2025-10-30 12:19:14 -0400 (Thu, 30 Oct 2025) EndedAt: 2025-10-30 12:21:25 -0400 (Thu, 30 Oct 2025) EllapsedTime: 131.4 seconds RetCode: 0 Status: WARNINGS CheckDir: HiCDataHumanIMR90.Rcheck Warnings: 1