Package: HiBED Version: 1.9.0 Command: /home/biocbuild/bbs-3.23-bioc/R/bin/R CMD INSTALL HiBED StartedAt: 2025-10-30 11:03:09 -0400 (Thu, 30 Oct 2025) EndedAt: 2025-10-30 11:03:52 -0400 (Thu, 30 Oct 2025) EllapsedTime: 43.2 seconds RetCode: 0 Status: OK