Package: HiBED Version: 1.9.0 Command: /home/biocbuild/bbs-3.23-bioc/R/bin/R CMD build --keep-empty-dirs --no-resave-data HiBED StartedAt: 2025-10-30 11:21:23 -0400 (Thu, 30 Oct 2025) EndedAt: 2025-10-30 11:22:26 -0400 (Thu, 30 Oct 2025) EllapsedTime: 63.3 seconds RetCode: 1 Status: ERROR PackageFile: None PackageFileSize: NA