Package: HelloRangesData Version: 1.37.0 Command: /home/biocbuild/bbs-3.23-bioc/R/bin/R CMD check --install=check:HelloRangesData.install-out.txt --library=/home/biocbuild/bbs-3.23-bioc/R/site-library --timings HelloRangesData_1.37.0.tar.gz StartedAt: 2025-10-30 12:18:40 -0400 (Thu, 30 Oct 2025) EndedAt: 2025-10-30 12:19:02 -0400 (Thu, 30 Oct 2025) EllapsedTime: 22.0 seconds RetCode: 0 Status: OK CheckDir: HelloRangesData.Rcheck Warnings: 0