Back to Build/check report for BioC 3.23 experimental data
ABCDEFG[H]IJKLMNOPQRSTUVWXYZ

This page was generated on 2025-10-28 15:00 -0400 (Tue, 28 Oct 2025).

HostnameOSArch (*)R versionInstalled pkgs
nebbiolo1Linux (Ubuntu 24.04.3 LTS)x86_64R Under development (unstable) (2025-10-20 r88955) -- "Unsuffered Consequences" 4307
Click on any hostname to see more info about the system (e.g. compilers)      (*) as reported by 'uname -p', except on Windows and Mac OS X

All results for package HelloRangesData


To the developers/maintainers of the HelloRangesData package:
- Use the following Renviron settings to reproduce errors and warnings.
- If 'R CMD check' started to fail recently on the Linux builder(s) over a missing dependency, add the missing dependency to 'Suggests:' in your DESCRIPTION file. See Renviron.bioc for more information.

raw results

Package 179/430HostnameOS / ArchINSTALLBUILDCHECK
HelloRangesData 1.35.0  (landing page)
Michael Lawrence
Snapshot Date: 2025-10-28 07:00 -0400 (Tue, 28 Oct 2025)
git_url: https://git.bioconductor.org/packages/HelloRangesData
git_branch: devel
git_last_commit: 3f964fb
git_last_commit_date: 2025-07-15 19:48:57 -0400 (Tue, 15 Jul 2025)
nebbiolo1Linux (Ubuntu 24.04.3 LTS) / x86_64  OK    OK    OK  UNNEEDED, same version is already published