Package: HarmanData Version: 1.39.0 Command: /home/biocbuild/bbs-3.23-bioc/R/bin/R CMD build --keep-empty-dirs --no-resave-data HarmanData StartedAt: 2025-10-30 11:19:35 -0400 (Thu, 30 Oct 2025) EndedAt: 2025-10-30 11:19:59 -0400 (Thu, 30 Oct 2025) EllapsedTime: 23.9 seconds RetCode: 0 Status: OK PackageFile: HarmanData_1.39.0.tar.gz PackageFileSize: 54.65 MiB