Package: HSMMSingleCell Version: 1.31.0 Command: /home/biocbuild/bbs-3.23-bioc/R/bin/R CMD check --install=check:HSMMSingleCell.install-out.txt --library=/home/biocbuild/bbs-3.23-bioc/R/site-library --timings HSMMSingleCell_1.31.0.tar.gz StartedAt: 2025-11-06 12:28:49 -0500 (Thu, 06 Nov 2025) EndedAt: 2025-11-06 12:29:56 -0500 (Thu, 06 Nov 2025) EllapsedTime: 67.6 seconds RetCode: 0 Status: WARNINGS CheckDir: HSMMSingleCell.Rcheck Warnings: 3