Package: HMP2Data Version: 1.25.0 Command: /home/biocbuild/bbs-3.23-bioc/R/bin/R CMD INSTALL HMP2Data StartedAt: 2025-10-30 11:00:35 -0400 (Thu, 30 Oct 2025) EndedAt: 2025-10-30 11:01:12 -0400 (Thu, 30 Oct 2025) EllapsedTime: 37.0 seconds RetCode: 0 Status: OK