Package: HMP2Data Version: 1.25.0 Command: /home/biocbuild/bbs-3.23-bioc/R/bin/R CMD check --install=check:HMP2Data.install-out.txt --library=/home/biocbuild/bbs-3.23-bioc/R/site-library --timings HMP2Data_1.25.0.tar.gz StartedAt: 2025-10-30 12:19:42 -0400 (Thu, 30 Oct 2025) EndedAt: 2025-10-30 12:24:44 -0400 (Thu, 30 Oct 2025) EllapsedTime: 302.1 seconds RetCode: 0 Status: OK CheckDir: HMP2Data.Rcheck Warnings: 0