Package: HMP2Data Version: 1.25.0 Command: /home/biocbuild/bbs-3.23-bioc/R/bin/R CMD build --keep-empty-dirs --no-resave-data HMP2Data StartedAt: 2025-10-30 11:21:58 -0400 (Thu, 30 Oct 2025) EndedAt: 2025-10-30 11:23:10 -0400 (Thu, 30 Oct 2025) EllapsedTime: 71.2 seconds RetCode: 0 Status: OK PackageFile: HMP2Data_1.25.0.tar.gz PackageFileSize: 5.147 MiB