Package: HMP16SData Version: 1.31.0 Command: /home/biocbuild/bbs-3.23-bioc/R/bin/R CMD INSTALL HMP16SData StartedAt: 2025-10-30 10:58:22 -0400 (Thu, 30 Oct 2025) EndedAt: 2025-10-30 10:58:53 -0400 (Thu, 30 Oct 2025) EllapsedTime: 30.3 seconds RetCode: 0 Status: OK