Package: HMP16SData Version: 1.31.0 Command: /home/biocbuild/bbs-3.23-bioc/R/bin/R CMD check --install=check:HMP16SData.install-out.txt --library=/home/biocbuild/bbs-3.23-bioc/R/site-library --timings HMP16SData_1.31.0.tar.gz StartedAt: 2025-10-30 12:19:39 -0400 (Thu, 30 Oct 2025) EndedAt: 2025-10-30 12:26:22 -0400 (Thu, 30 Oct 2025) EllapsedTime: 403.9 seconds RetCode: 0 Status: OK CheckDir: HMP16SData.Rcheck Warnings: 0