Package: HMP16SData Version: 1.31.0 Command: /home/biocbuild/bbs-3.23-bioc/R/bin/R CMD build --keep-empty-dirs --no-resave-data HMP16SData StartedAt: 2025-10-30 11:21:56 -0400 (Thu, 30 Oct 2025) EndedAt: 2025-10-30 11:24:17 -0400 (Thu, 30 Oct 2025) EllapsedTime: 140.9 seconds RetCode: 0 Status: OK PackageFile: HMP16SData_1.31.0.tar.gz PackageFileSize: 16.36 MiB