Package: HEEBOdata Version: 1.49.0 Command: /home/biocbuild/bbs-3.23-bioc/R/bin/R CMD check --install=check:HEEBOdata.install-out.txt --library=/home/biocbuild/bbs-3.23-bioc/R/site-library --timings HEEBOdata_1.49.0.tar.gz StartedAt: 2025-11-27 12:28:45 -0500 (Thu, 27 Nov 2025) EndedAt: 2025-11-27 12:29:17 -0500 (Thu, 27 Nov 2025) EllapsedTime: 32.3 seconds RetCode: 0 Status: WARNINGS CheckDir: HEEBOdata.Rcheck Warnings: 1