Package: HDCytoData Version: 1.31.0 Command: /home/biocbuild/bbs-3.23-bioc/R/bin/R CMD INSTALL HDCytoData StartedAt: 2025-11-20 11:03:37 -0500 (Thu, 20 Nov 2025) EndedAt: 2025-11-20 11:04:03 -0500 (Thu, 20 Nov 2025) EllapsedTime: 26.6 seconds RetCode: 0 Status: OK