Package: HDCytoData Version: 1.31.0 Command: /home/biocbuild/bbs-3.23-bioc/R/bin/R CMD check --install=check:HDCytoData.install-out.txt --library=/home/biocbuild/bbs-3.23-bioc/R/site-library --timings HDCytoData_1.31.0.tar.gz StartedAt: 2025-11-20 12:36:52 -0500 (Thu, 20 Nov 2025) EndedAt: 2025-11-20 12:42:57 -0500 (Thu, 20 Nov 2025) EllapsedTime: 364.7 seconds RetCode: 0 Status: OK CheckDir: HDCytoData.Rcheck Warnings: 0