Package: HCATonsilData Version: 1.9.0 Command: /home/biocbuild/bbs-3.23-bioc/R/bin/R CMD check --install=check:HCATonsilData.install-out.txt --library=/home/biocbuild/bbs-3.23-bioc/R/site-library --timings HCATonsilData_1.9.0.tar.gz StartedAt: 2025-10-30 12:17:25 -0400 (Thu, 30 Oct 2025) EndedAt: 2025-10-30 12:22:25 -0400 (Thu, 30 Oct 2025) EllapsedTime: 300.6 seconds RetCode: 0 Status: OK CheckDir: HCATonsilData.Rcheck Warnings: 0