Package: HCATonsilData Version: 1.9.0 Command: /home/biocbuild/bbs-3.23-bioc/R/bin/R CMD build --keep-empty-dirs --no-resave-data HCATonsilData StartedAt: 2025-10-30 11:19:49 -0400 (Thu, 30 Oct 2025) EndedAt: 2025-10-30 11:20:59 -0400 (Thu, 30 Oct 2025) EllapsedTime: 70.0 seconds RetCode: 0 Status: OK PackageFile: HCATonsilData_1.9.0.tar.gz PackageFileSize: 6.247 MiB