Package: HCAData Version: 1.27.0 Command: /home/biocbuild/bbs-3.23-bioc/R/bin/R CMD INSTALL HCAData StartedAt: 2025-10-30 11:02:32 -0400 (Thu, 30 Oct 2025) EndedAt: 2025-10-30 11:03:03 -0400 (Thu, 30 Oct 2025) EllapsedTime: 30.6 seconds RetCode: 0 Status: OK