Package: HCAData Version: 1.27.0 Command: /home/biocbuild/bbs-3.23-bioc/R/bin/R CMD check --install=check:HCAData.install-out.txt --library=/home/biocbuild/bbs-3.23-bioc/R/site-library --timings HCAData_1.27.0.tar.gz StartedAt: 2025-11-04 12:23:09 -0500 (Tue, 04 Nov 2025) EndedAt: 2025-11-04 12:29:09 -0500 (Tue, 04 Nov 2025) EllapsedTime: 360.3 seconds RetCode: 0 Status: OK CheckDir: HCAData.Rcheck Warnings: 0