Package: GeuvadisTranscriptExpr Version: 1.39.0 Command: /home/biocbuild/bbs-3.23-bioc/R/bin/R CMD check --install=check:GeuvadisTranscriptExpr.install-out.txt --library=/home/biocbuild/bbs-3.23-bioc/R/site-library --timings GeuvadisTranscriptExpr_1.39.0.tar.gz StartedAt: 2025-10-30 12:15:53 -0400 (Thu, 30 Oct 2025) EndedAt: 2025-10-30 12:17:01 -0400 (Thu, 30 Oct 2025) EllapsedTime: 67.7 seconds RetCode: 0 Status: OK CheckDir: GeuvadisTranscriptExpr.Rcheck Warnings: 0