Package: GenomicDistributionsData Version: 1.19.0 Command: /home/biocbuild/bbs-3.23-bioc/R/bin/R CMD check --install=check:GenomicDistributionsData.install-out.txt --library=/home/biocbuild/bbs-3.23-bioc/R/site-library --timings GenomicDistributionsData_1.19.0.tar.gz StartedAt: 2025-11-06 12:22:44 -0500 (Thu, 06 Nov 2025) EndedAt: 2025-11-06 12:27:34 -0500 (Thu, 06 Nov 2025) EllapsedTime: 289.5 seconds RetCode: 0 Status: OK CheckDir: GenomicDistributionsData.Rcheck Warnings: 0