Package: GWASdata Version: 1.49.0 Command: /home/biocbuild/bbs-3.23-bioc/R/bin/R CMD INSTALL GWASdata StartedAt: 2025-10-30 11:03:45 -0400 (Thu, 30 Oct 2025) EndedAt: 2025-10-30 11:03:54 -0400 (Thu, 30 Oct 2025) EllapsedTime: 8.5 seconds RetCode: 0 Status: OK