Package: GWASdata Version: 1.49.0 Command: /home/biocbuild/bbs-3.23-bioc/R/bin/R CMD check --install=check:GWASdata.install-out.txt --library=/home/biocbuild/bbs-3.23-bioc/R/site-library --timings GWASdata_1.49.0.tar.gz StartedAt: 2025-10-30 12:16:43 -0400 (Thu, 30 Oct 2025) EndedAt: 2025-10-30 12:17:24 -0400 (Thu, 30 Oct 2025) EllapsedTime: 40.8 seconds RetCode: 0 Status: OK CheckDir: GWASdata.Rcheck Warnings: 0