############################################################################## ############################################################################## ### ### Running command: ### ### /home/biocbuild/bbs-3.23-bioc/R/bin/R CMD INSTALL GSVAdata ### ############################################################################## ############################################################################## * installing to library ‘/home/biocbuild/bbs-3.23-bioc/R/site-library’ ERROR: dependency ‘hgu95a.db’ is not available for package ‘GSVAdata’ Perhaps try a variation of: install.packages('hgu95a.db') * removing ‘/home/biocbuild/bbs-3.23-bioc/R/site-library/GSVAdata’