| Back to Build/check report for BioC 3.23 experimental data | 
 | 
This page was generated on 2025-10-28 15:00 -0400 (Tue, 28 Oct 2025).
| Hostname | OS | Arch (*) | R version | Installed pkgs | 
|---|---|---|---|---|
| nebbiolo1 | Linux (Ubuntu 24.04.3 LTS) | x86_64 | R Under development (unstable) (2025-10-20 r88955) -- "Unsuffered Consequences" | 4307 | 
| Click on any hostname to see more info about the system (e.g. compilers) (*) as reported by 'uname -p', except on Windows and Mac OS X | ||||
| To the developers/maintainers of the GSVAdata package: - Use the following Renviron settings to reproduce errors and warnings. - If 'R CMD check' started to fail recently on the Linux builder(s) over a missing dependency, add the missing dependency to 'Suggests:' in your DESCRIPTION file. See Renviron.bioc for more information. | 
| Package 160/430 | Hostname | OS / Arch | INSTALL | BUILD | CHECK | ||||||||
| GSVAdata 1.45.0  (landing page) Robert Castelo 
 | nebbiolo1 | Linux (Ubuntu 24.04.3 LTS) / x86_64 | ERROR | OK | ERROR | ||||||||