Package: GSE62944 Version: 1.39.0 Command: /home/biocbuild/bbs-3.23-bioc/R/bin/R CMD INSTALL GSE62944 StartedAt: 2025-11-20 10:59:52 -0500 (Thu, 20 Nov 2025) EndedAt: 2025-11-20 11:00:07 -0500 (Thu, 20 Nov 2025) EllapsedTime: 14.7 seconds RetCode: 0 Status: OK