Package: GSE62944 Version: 1.39.0 Command: /home/biocbuild/bbs-3.23-bioc/R/bin/R CMD build --keep-empty-dirs --no-resave-data GSE62944 StartedAt: 2025-11-20 11:21:34 -0500 (Thu, 20 Nov 2025) EndedAt: 2025-11-20 11:22:58 -0500 (Thu, 20 Nov 2025) EllapsedTime: 83.4 seconds RetCode: 0 Status: OK PackageFile: GSE62944_1.39.0.tar.gz PackageFileSize: 221.1 KiB