Package: GSBenchMark Version: 1.31.0 Command: /home/biocbuild/bbs-3.23-bioc/R/bin/R CMD check --install=check:GSBenchMark.install-out.txt --library=/home/biocbuild/bbs-3.23-bioc/R/site-library --timings GSBenchMark_1.31.0.tar.gz StartedAt: 2025-10-30 12:16:26 -0400 (Thu, 30 Oct 2025) EndedAt: 2025-10-30 12:17:02 -0400 (Thu, 30 Oct 2025) EllapsedTime: 36.4 seconds RetCode: 0 Status: OK CheckDir: GSBenchMark.Rcheck Warnings: 0