Package: GIGSEAdata Version: 1.29.0 Command: /home/biocbuild/bbs-3.23-bioc/R/bin/R CMD check --install=check:GIGSEAdata.install-out.txt --library=/home/biocbuild/bbs-3.23-bioc/R/site-library --timings GIGSEAdata_1.29.0.tar.gz StartedAt: 2025-10-30 12:15:56 -0400 (Thu, 30 Oct 2025) EndedAt: 2025-10-30 12:16:15 -0400 (Thu, 30 Oct 2025) EllapsedTime: 19.0 seconds RetCode: 0 Status: WARNINGS CheckDir: GIGSEAdata.Rcheck Warnings: 1