Package: GIGSEAdata Version: 1.29.0 Command: /home/biocbuild/bbs-3.23-bioc/R/bin/R CMD build --keep-empty-dirs --no-resave-data GIGSEAdata StartedAt: 2025-10-30 11:18:05 -0400 (Thu, 30 Oct 2025) EndedAt: 2025-10-30 11:18:14 -0400 (Thu, 30 Oct 2025) EllapsedTime: 8.9 seconds RetCode: 0 Status: OK PackageFile: GIGSEAdata_1.29.0.tar.gz PackageFileSize: 6.187 MiB