Package: FlowSorted.Blood.450k Version: 1.49.0 Command: /home/biocbuild/bbs-3.23-bioc/R/bin/R CMD build --keep-empty-dirs --no-resave-data FlowSorted.Blood.450k StartedAt: 2025-10-30 11:15:57 -0400 (Thu, 30 Oct 2025) EndedAt: 2025-10-30 11:17:25 -0400 (Thu, 30 Oct 2025) EllapsedTime: 88.0 seconds RetCode: 0 Status: OK PackageFile: FlowSorted.Blood.450k_1.49.0.tar.gz PackageFileSize: 167.8 MiB