Package: Fletcher2013b Version: 1.47.0 Command: /home/biocbuild/bbs-3.23-bioc/R/bin/R CMD check --install=check:Fletcher2013b.install-out.txt --library=/home/biocbuild/bbs-3.23-bioc/R/site-library --timings Fletcher2013b_1.47.0.tar.gz StartedAt: 2025-10-30 12:12:34 -0400 (Thu, 30 Oct 2025) EndedAt: 2025-10-30 12:16:27 -0400 (Thu, 30 Oct 2025) EllapsedTime: 233.5 seconds RetCode: 0 Status: WARNINGS CheckDir: Fletcher2013b.Rcheck Warnings: 1