Package: Fletcher2013b Version: 1.47.0 Command: /home/biocbuild/bbs-3.23-bioc/R/bin/R CMD build --keep-empty-dirs --no-resave-data Fletcher2013b StartedAt: 2025-10-30 11:15:41 -0400 (Thu, 30 Oct 2025) EndedAt: 2025-10-30 11:16:31 -0400 (Thu, 30 Oct 2025) EllapsedTime: 50.0 seconds RetCode: 0 Status: OK PackageFile: Fletcher2013b_1.47.0.tar.gz PackageFileSize: 263.6 MiB