Package: Fletcher2013a Version: 1.47.0 Command: /home/biocbuild/bbs-3.23-bioc/R/bin/R CMD INSTALL Fletcher2013a StartedAt: 2025-11-20 10:56:26 -0500 (Thu, 20 Nov 2025) EndedAt: 2025-11-20 10:56:35 -0500 (Thu, 20 Nov 2025) EllapsedTime: 8.8 seconds RetCode: 0 Status: OK