Package: Fletcher2013a Version: 1.47.0 Command: /home/biocbuild/bbs-3.23-bioc/R/bin/R CMD check --install=check:Fletcher2013a.install-out.txt --library=/home/biocbuild/bbs-3.23-bioc/R/site-library --timings Fletcher2013a_1.47.0.tar.gz StartedAt: 2025-11-20 12:30:19 -0500 (Thu, 20 Nov 2025) EndedAt: 2025-11-20 12:31:20 -0500 (Thu, 20 Nov 2025) EllapsedTime: 61.5 seconds RetCode: 0 Status: OK CheckDir: Fletcher2013a.Rcheck Warnings: 0