Package: FieldEffectCrc Version: 1.21.0 Command: /home/biocbuild/bbs-3.23-bioc/R/bin/R CMD build --keep-empty-dirs --no-resave-data FieldEffectCrc StartedAt: 2025-11-20 11:18:30 -0500 (Thu, 20 Nov 2025) EndedAt: 2025-11-20 11:21:48 -0500 (Thu, 20 Nov 2025) EllapsedTime: 197.6 seconds RetCode: 0 Status: OK PackageFile: FieldEffectCrc_1.21.0.tar.gz PackageFileSize: 239.5 KiB