Package: EpipwR.data Version: 1.5.0 Command: /home/biocbuild/bbs-3.23-bioc/R/bin/R CMD INSTALL EpipwR.data StartedAt: 2025-10-30 10:57:35 -0400 (Thu, 30 Oct 2025) EndedAt: 2025-10-30 10:57:36 -0400 (Thu, 30 Oct 2025) EllapsedTime: 1.0 seconds RetCode: 0 Status: OK